Workbook

Sheet EggTracker
A1: Egg Tracker
A2: Each day, enter your egg data. Each day should be its own row. Do not make changes to auto-calculating cells. | F2: auto-calculates | H2: auto-calculates | J2: auto-calculates | K2: auto-calculates
A3: Date (MM/DD/YYYY) | B3: Light Brown | C3: Dark Brown | D3: Blue or Green | E3: White | F3: Total Eggs | G3: # Hens | H3: Average Eggs per Hen | I3: Notes | J3: Year | K3: Month #
F4: =SUM(Table134[[#This Row],[Light Brown]:[White]]) -> 0 | H4: =Table134[[#This Row],[Total Eggs]]/Table134[[#This Row],['# Hens]] -> #DIV/0! | J4: =YEAR(Table134[[#This Row],[Date (MM/DD/YYYY)]]) -> 1900 | K4: =IF(Table134[[#This Row],[Date (MM/DD/YYYY)]]="","",MONTH(Table134[[#This Row],[Date (MM/DD/YYYY)]]))
F5: =SUM(Table134[[#This Row],[Light Brown]:[White]]) -> 0 | H5: =Table134[[#This Row],[Total Eggs]]/Table134[[#This Row],['# Hens]] -> #DIV/0! | J5: =YEAR(Table134[[#This Row],[Date (MM/DD/YYYY)]]) -> 1900 | K5: =IF(Table134[[#This Row],[Date (MM/DD/YYYY)]]="","",MONTH(Table134[[#This Row],[Date (MM/DD/YYYY)]]))
F6: =SUM(Table134[[#This Row],[Light Brown]:[White]]) -> 0 | H6: =Table134[[#This Row],[Total Eggs]]/Table134[[#This Row],['# Hens]] -> #DIV/0! | J6: =YEAR(Table134[[#This Row],[Date (MM/DD/YYYY)]]) -> 1900 | K6: =IF(Table134[[#This Row],[Date (MM/DD/YYYY)]]="","",MONTH(Table134[[#This Row],[Date (MM/DD/YYYY)]]))
F7: =SUM(Table134[[#This Row],[Light Brown]:[White]]) -> 0 | H7: =Table134[[#This Row],[Total Eggs]]/Table134[[#This Row],['# Hens]] -> #DIV/0! | J7: =YEAR(Table134[[#This Row],[Date (MM/DD/YYYY)]]) -> 1900 | K7: =IF(Table134[[#This Row],[Date (MM/DD/YYYY)]]="","",MONTH(Table134[[#This Row],[Date (MM/DD/YYYY)]]))
F8: =SUM(Table134[[#This Row],[Light Brown]:[White]]) -> 0 | H8: =Table134[[#This Row],[Total Eggs]]/Table134[[#This Row],['# Hens]] -> #DIV/0! | J8: =YEAR(Table134[[#This Row],[Date (MM/DD/YYYY)]]) -> 1900 | K8: =IF(Table134[[#This Row],[Date (MM/DD/YYYY)]]="","",MONTH(Table134[[#This Row],[Date (MM/DD/YYYY)]]))
F9: =SUM(Table134[[#This Row],[Light Brown]:[White]]) -> 0 | H9: =Table134[[#This Row],[Total Eggs]]/Table134[[#This Row],['# Hens]] -> #DIV/0! | J9: =YEAR(Table134[[#This Row],[Date (MM/DD/YYYY)]]) -> 1900 | K9: =IF(Table134[[#This Row],[Date (MM/DD/YYYY)]]="","",MONTH(Table134[[#This Row],[Date (MM/DD/YYYY)]]))
F10: =SUM(Table134[[#This Row],[Light Brown]:[White]]) -> 0 | H10: =Table134[[#This Row],[Total Eggs]]/Table134[[#This Row],['# Hens]] -> #DIV/0! | J10: =YEAR(Table134[[#This Row],[Date (MM/DD/YYYY)]]) -> 1900 | K10: =IF(Table134[[#This Row],[Date (MM/DD/YYYY)]]="","",MONTH(Table134[[#This Row],[Date (MM/DD/YYYY)]]))
F11: =SUM(Table134[[#This Row],[Light Brown]:[White]]) -> 0 | H11: =Table134[[#This Row],[Total Eggs]]/Table134[[#This Row],['# Hens]] -> #DIV/0! | J11: =YEAR(Table134[[#This Row],[Date (MM/DD/YYYY)]]) -> 1900 | K11: =IF(Table134[[#This Row],[Date (MM/DD/YYYY)]]="","",MONTH(Table134[[#This Row],[Date (MM/DD/YYYY)]]))
F12: =SUM(Table134[[#This Row],[Light Brown]:[White]]) -> 0 | H12: =Table134[[#This Row],[Total Eggs]]/Table134[[#This Row],['# Hens]] -> #DIV/0! | J12: =YEAR(Table134[[#This Row],[Date (MM/DD/YYYY)]]) -> 1900 | K12: =IF(Table134[[#This Row],[Date (MM/DD/YYYY)]]="","",MONTH(Table134[[#This Row],[Date (MM/DD/YYYY)]]))
F13: =SUM(Table134[[#This Row],[Light Brown]:[White]]) -> 0 | H13: =Table134[[#This Row],[Total Eggs]]/Table134[[#This Row],['# Hens]] -> #DIV/0! | J13: =YEAR(Table134[[#This Row],[Date (MM/DD/YYYY)]]) -> 1900 | K13: =IF(Table134[[#This Row],[Date (MM/DD/YYYY)]]="","",MONTH(Table134[[#This Row],[Date (MM/DD/YYYY)]]))
F14: =SUM(Table134[[#This Row],[Light Brown]:[White]]) -> 0 | H14: =Table134[[#This Row],[Total Eggs]]/Table134[[#This Row],['# Hens]] -> #DIV/0! | J14: =YEAR(Table134[[#This Row],[Date (MM/DD/YYYY)]]) -> 1900 | K14: =IF(Table134[[#This Row],[Date (MM/DD/YYYY)]]="","",MONTH(Table134[[#This Row],[Date (MM/DD/YYYY)]]))
F15: =SUM(Table134[[#This Row],[Light Brown]:[White]]) -> 0 | H15: =Table134[[#This Row],[Total Eggs]]/Table134[[#This Row],['# Hens]] -> #DIV/0! | J15: =YEAR(Table134[[#This Row],[Date (MM/DD/YYYY)]]) -> 1900 | K15: =IF(Table134[[#This Row],[Date (MM/DD/YYYY)]]="","",MONTH(Table134[[#This Row],[Date (MM/DD/YYYY)]]))
... F1101: =SUM(Table134[[#This Row],[Light Brown]:[White]]) -> 0 | H1101: =Table134[[#This Row],[Total Eggs]]/Table134[[#This Row],['# Hens]] -> #DIV/0! | J1101: =YEAR(Table134[[#This Row],[Date (MM/DD/YYYY)]]) -> 1900 | K1101: =IF(Table134[[#This Row],[Date (MM/DD/YYYY)]]="","",MONTH(Table134[[#This Row],[Date (MM/DD/YYYY)]]))

Sheet FlockCensus
A1: Flock Census
A2: Enter each bird on a separate row. Do not make changes to auto-calculating cells. | G2: auto-calculates | J2: auto-calculates
A3: Name | B3: Breed | C3: Hatch Date (MM/DD/YYYY) | D3: Lay Date or Roo | E3: Egg Color [Leave blank if roo] | F3: Notes | G3: Weeks to First Lay (auto calculates for hens) | H3: Deceased Date (MM/DD/YYYY) | I3: Lost to… | J3: Alive?
G4: =(Table1[[#This Row],[Lay Date or Roo]]-Table1[[#This Row],[Hatch Date (MM/DD/YYYY)]])/7 -> 0 | J4: =IF(Table1[[#This Row],[Deceased Date (MM/DD/YYYY)]]="","Yes","No") -> Yes
G5: =(Table1[[#This Row],[Lay Date or Roo]]-Table1[[#This Row],[Hatch Date (MM/DD/YYYY)]])/7 -> 0 | J5: =IF(Table1[[#This Row],[Deceased Date (MM/DD/YYYY)]]="","Yes","No") -> Yes
G6: =(Table1[[#This Row],[Lay Date or Roo]]-Table1[[#This Row],[Hatch Date (MM/DD/YYYY)]])/7 -> 0 | J6: =IF(Table1[[#This Row],[Deceased Date (MM/DD/YYYY)]]="","Yes","No") -> Yes
G7: =(Table1[[#This Row],[Lay Date or Roo]]-Table1[[#This Row],[Hatch Date (MM/DD/YYYY)]])/7 -> 0 | J7: =IF(Table1[[#This Row],[Deceased Date (MM/DD/YYYY)]]="","Yes","No") -> Yes
G8: =(Table1[[#This Row],[Lay Date or Roo]]-Table1[[#This Row],[Hatch Date (MM/DD/YYYY)]])/7 -> 0 | J8: =IF(Table1[[#This Row],[Deceased Date (MM/DD/YYYY)]]="","Yes","No") -> Yes
G9: =(Table1[[#This Row],[Lay Date or Roo]]-Table1[[#This Row],[Hatch Date (MM/DD/YYYY)]])/7 -> 0 | J9: =IF(Table1[[#This Row],[Deceased Date (MM/DD/YYYY)]]="","Yes","No") -> Yes
G10: =(Table1[[#This Row],[Lay Date or Roo]]-Table1[[#This Row],[Hatch Date (MM/DD/YYYY)]])/7 -> 0 | J10: =IF(Table1[[#This Row],[Deceased Date (MM/DD/YYYY)]]="","Yes","No") -> Yes
G11: =(Table1[[#This Row],[Lay Date or Roo]]-Table1[[#This Row],[Hatch Date (MM/DD/YYYY)]])/7 -> 0 | J11: =IF(Table1[[#This Row],[Deceased Date (MM/DD/YYYY)]]="","Yes","No") -> Yes
G12: =(Table1[[#This Row],[Lay Date or Roo]]-Table1[[#This Row],[Hatch Date (MM/DD/YYYY)]])/7 -> 0 | J12: =IF(Table1[[#This Row],[Deceased Date (MM/DD/YYYY)]]="","Yes","No") -> Yes
G13: =(Table1[[#This Row],[Lay Date or Roo]]-Table1[[#This Row],[Hatch Date (MM/DD/YYYY)]])/7 -> 0 | J13: =IF(Table1[[#This Row],[Deceased Date (MM/DD/YYYY)]]="","Yes","No") -> Yes
G14: =(Table1[[#This Row],[Lay Date or Roo]]-Table1[[#This Row],[Hatch Date (MM/DD/YYYY)]])/7 -> 0 | J14: =IF(Table1[[#This Row],[Deceased Date (MM/DD/YYYY)]]="","Yes","No") -> Yes
G15: =(Table1[[#This Row],[Lay Date or Roo]]-Table1[[#This Row],[Hatch Date (MM/DD/YYYY)]])/7 -> 0 | J15: =IF(Table1[[#This Row],[Deceased Date (MM/DD/YYYY)]]="","Yes","No") -> Yes
... G201: =(Table1[[#This Row],[Lay Date or Roo]]-Table1[[#This Row],[Hatch Date (MM/DD/YYYY)]])/7 -> 0 | J201: =IF(Table1[[#This Row],[Deceased Date (MM/DD/YYYY)]]="","Yes","No") -> Yes

Sheet Expenses
A1: Flock Expenses | E1: =SUM(Table13[Total Cost]) -> 0 | F1: TOTAL
A2: Enter each item separately by category for greatest accuracy. | E2: auto-calculates | G2: auto-calculates
A3: Date (MM/DD/YYYY) | B3: Purchase Description | C3: QTY (#) | D3: Unit Cost | E3: Total Cost | F3: Category | G3: Year
E4: =Table13[[#This Row],[QTY ('#)]]*Table13[[#This Row],[Unit Cost]] -> 0 | G4: =YEAR(Table13[[#This Row],[Date (MM/DD/YYYY)]]) -> 1900
E5: =Table13[[#This Row],[QTY ('#)]]*Table13[[#This Row],[Unit Cost]] -> 0 | G5: =YEAR(Table13[[#This Row],[Date (MM/DD/YYYY)]]) -> 1900
E6: =Table13[[#This Row],[QTY ('#)]]*Table13[[#This Row],[Unit Cost]] -> 0 | G6: =YEAR(Table13[[#This Row],[Date (MM/DD/YYYY)]]) -> 1900
E7: =Table13[[#This Row],[QTY ('#)]]*Table13[[#This Row],[Unit Cost]] -> 0 | G7: =YEAR(Table13[[#This Row],[Date (MM/DD/YYYY)]]) -> 1900
E8: =Table13[[#This Row],[QTY ('#)]]*Table13[[#This Row],[Unit Cost]] -> 0 | G8: =YEAR(Table13[[#This Row],[Date (MM/DD/YYYY)]]) -> 1900
E9: =Table13[[#This Row],[QTY ('#)]]*Table13[[#This Row],[Unit Cost]] -> 0 | G9: =YEAR(Table13[[#This Row],[Date (MM/DD/YYYY)]]) -> 1900
E10: =Table13[[#This Row],[QTY ('#)]]*Table13[[#This Row],[Unit Cost]] -> 0 | G10: =YEAR(Table13[[#This Row],[Date (MM/DD/YYYY)]]) -> 1900
E11: =Table13[[#This Row],[QTY ('#)]]*Table13[[#This Row],[Unit Cost]] -> 0 | G11: =YEAR(Table13[[#This Row],[Date (MM/DD/YYYY)]]) -> 1900
E12: =Table13[[#This Row],[QTY ('#)]]*Table13[[#This Row],[Unit Cost]] -> 0 | G12: =YEAR(Table13[[#This Row],[Date (MM/DD/YYYY)]]) -> 1900
E13: =Table13[[#This Row],[QTY ('#)]]*Table13[[#This Row],[Unit Cost]] -> 0 | G13: =YEAR(Table13[[#This Row],[Date (MM/DD/YYYY)]]) -> 1900
E14: =Table13[[#This Row],[QTY ('#)]]*Table13[[#This Row],[Unit Cost]] -> 0 | G14: =YEAR(Table13[[#This Row],[Date (MM/DD/YYYY)]]) -> 1900
E15: =Table13[[#This Row],[QTY ('#)]]*Table13[[#This Row],[Unit Cost]] -> 0 | G15: =YEAR(Table13[[#This Row],[Date (MM/DD/YYYY)]]) -> 1900
... E351: =Table13[[#This Row],[QTY ('#)]]*Table13[[#This Row],[Unit Cost]] -> 0 | G351: =YEAR(Table13[[#This Row],[Date (MM/DD/YYYY)]]) -> 1900

Sheet HatchTracker
A1: Hatch Tracker | D1: Totals: | E1: =SUM(E4:E4000) -> 0 | F1: =SUM(F4:F4000) -> 0
A2: Enter each bird on a separate row. Do not make changes to auto-calculating cells. | G2: auto-calculates | H2: auto-calculates | I2: auto-calculates
A3: Set Date (MM/DD/YYYY) | B3: Breed | C3: First Hatch Date (MM/DD/YYYY) | D3: Last Hatch Date (MM/DD/YYYY) | E3: Total Eggs | F3: # Successful Hatches | G3: Hatch Rate | H3: Incubation Time to First Hatch (days) | I3: Incubation Time to Last Hatch (days)
G4: =Table15[[#This Row],['# Successful Hatches]]/Table15[[#This Row],[Total Eggs]] -> #DIV/0! | H4: =Table15[[#This Row],[First Hatch Date (MM/DD/YYYY)]]-Table15[[#This Row],[Set Date (MM/DD/YYYY)]] -> 0 | I4: =Table15[[#This Row],[Last Hatch Date (MM/DD/YYYY)]]-Table15[[#This Row],[Set Date (MM/DD/YYYY)]] -> 0
G5: =Table15[[#This Row],['# Successful Hatches]]/Table15[[#This Row],[Total Eggs]] -> #DIV/0! | H5: =Table15[[#This Row],[First Hatch Date (MM/DD/YYYY)]]-Table15[[#This Row],[Set Date (MM/DD/YYYY)]] -> 0 | I5: =Table15[[#This Row],[Last Hatch Date (MM/DD/YYYY)]]-Table15[[#This Row],[Set Date (MM/DD/YYYY)]] -> 0
G6: =Table15[[#This Row],['# Successful Hatches]]/Table15[[#This Row],[Total Eggs]] -> #DIV/0! | H6: =Table15[[#This Row],[First Hatch Date (MM/DD/YYYY)]]-Table15[[#This Row],[Set Date (MM/DD/YYYY)]] -> 0 | I6: =Table15[[#This Row],[Last Hatch Date (MM/DD/YYYY)]]-Table15[[#This Row],[Set Date (MM/DD/YYYY)]] -> 0
G7: =Table15[[#This Row],['# Successful Hatches]]/Table15[[#This Row],[Total Eggs]] -> #DIV/0! | H7: =Table15[[#This Row],[First Hatch Date (MM/DD/YYYY)]]-Table15[[#This Row],[Set Date (MM/DD/YYYY)]] -> 0 | I7: =Table15[[#This Row],[Last Hatch Date (MM/DD/YYYY)]]-Table15[[#This Row],[Set Date (MM/DD/YYYY)]] -> 0
G8: =Table15[[#This Row],['# Successful Hatches]]/Table15[[#This Row],[Total Eggs]] -> #DIV/0! | H8: =Table15[[#This Row],[First Hatch Date (MM/DD/YYYY)]]-Table15[[#This Row],[Set Date (MM/DD/YYYY)]] -> 0 | I8: =Table15[[#This Row],[Last Hatch Date (MM/DD/YYYY)]]-Table15[[#This Row],[Set Date (MM/DD/YYYY)]] -> 0
G9: =Table15[[#This Row],['# Successful Hatches]]/Table15[[#This Row],[Total Eggs]] -> #DIV/0! | H9: =Table15[[#This Row],[First Hatch Date (MM/DD/YYYY)]]-Table15[[#This Row],[Set Date (MM/DD/YYYY)]] -> 0 | I9: =Table15[[#This Row],[Last Hatch Date (MM/DD/YYYY)]]-Table15[[#This Row],[Set Date (MM/DD/YYYY)]] -> 0
G10: =Table15[[#This Row],['# Successful Hatches]]/Table15[[#This Row],[Total Eggs]] -> #DIV/0! | H10: =Table15[[#This Row],[First Hatch Date (MM/DD/YYYY)]]-Table15[[#This Row],[Set Date (MM/DD/YYYY)]] -> 0 | I10: =Table15[[#This Row],[Last Hatch Date (MM/DD/YYYY)]]-Table15[[#This Row],[Set Date (MM/DD/YYYY)]] -> 0
G11: =Table15[[#This Row],['# Successful Hatches]]/Table15[[#This Row],[Total Eggs]] -> #DIV/0! | H11: =Table15[[#This Row],[First Hatch Date (MM/DD/YYYY)]]-Table15[[#This Row],[Set Date (MM/DD/YYYY)]] -> 0 | I11: =Table15[[#This Row],[Last Hatch Date (MM/DD/YYYY)]]-Table15[[#This Row],[Set Date (MM/DD/YYYY)]] -> 0
G12: =Table15[[#This Row],['# Successful Hatches]]/Table15[[#This Row],[Total Eggs]] -> #DIV/0! | H12: =Table15[[#This Row],[First Hatch Date (MM/DD/YYYY)]]-Table15[[#This Row],[Set Date (MM/DD/YYYY)]] -> 0 | I12: =Table15[[#This Row],[Last Hatch Date (MM/DD/YYYY)]]-Table15[[#This Row],[Set Date (MM/DD/YYYY)]] -> 0
G13: =Table15[[#This Row],['# Successful Hatches]]/Table15[[#This Row],[Total Eggs]] -> #DIV/0! | H13: =Table15[[#This Row],[First Hatch Date (MM/DD/YYYY)]]-Table15[[#This Row],[Set Date (MM/DD/YYYY)]] -> 0 | I13: =Table15[[#This Row],[Last Hatch Date (MM/DD/YYYY)]]-Table15[[#This Row],[Set Date (MM/DD/YYYY)]] -> 0
G14: =Table15[[#This Row],['# Successful Hatches]]/Table15[[#This Row],[Total Eggs]] -> #DIV/0! | H14: =Table15[[#This Row],[First Hatch Date (MM/DD/YYYY)]]-Table15[[#This Row],[Set Date (MM/DD/YYYY)]] -> 0 | I14: =Table15[[#This Row],[Last Hatch Date (MM/DD/YYYY)]]-Table15[[#This Row],[Set Date (MM/DD/YYYY)]] -> 0
G15: =Table15[[#This Row],['# Successful Hatches]]/Table15[[#This Row],[Total Eggs]] -> #DIV/0! | H15: =Table15[[#This Row],[First Hatch Date (MM/DD/YYYY)]]-Table15[[#This Row],[Set Date (MM/DD/YYYY)]] -> 0 | I15: =Table15[[#This Row],[Last Hatch Date (MM/DD/YYYY)]]-Table15[[#This Row],[Set Date (MM/DD/YYYY)]] -> 0
... G201: =Table15[[#This Row],['# Successful Hatches]]/Table15[[#This Row],[Total Eggs]] -> #DIV/0! | H201: =Table15[[#This Row],[First Hatch Date (MM/DD/YYYY)]]-Table15[[#This Row],[Set Date (MM/DD/YYYY)]] -> 0 | I201: =Table15[[#This Row],[Last Hatch Date (MM/DD/YYYY)]]-Table15[[#This Row],[Set Date (MM/DD/YYYY)]] -> 0

Sheet SUMMARY
A1: CHICKEN MATH SUMMARY | I1: *If tables and graphs do not automatically update, press your F9 key or save the file.
B2: Total Eggs by Month | I2: Total Eggs by Month and Year
B3: Month | C3: Light Brown | D3: Dark Brown | E3: Blue or Green | F3: White | G3: Total | J3: [Enter Year YYYY] | K3: [Enter Year YYYY] | L3: [Enter Year YYYY]
B4: January | C4: =SUMIF(EggTracker!$K:$K,1,EggTracker!$B:$B) -> 0 | D4: =SUMIF(EggTracker!$K:$K,1,EggTracker!$C:$C) -> 0 | E4: =SUMIF(EggTracker!$K:$K,1,EggTracker!$D:$D) -> 0 | F4: =SUMIF(EggTracker!$K:$K,1,EggTracker!$E:$E) -> 0 | G4: =SUM(C4:F4) -> 0 | I4: January | J4: =SUMIFS(EggTracker!$F:$F,EggTracker!$J:$J,J$3,EggTracker!$K:$K,1) -> 0 | K4: =SUMIFS(EggTracker!$F:$F,EggTracker!$J:$J,K$3,EggTracker!$K:$K,1) -> 0 | L4: =SUMIFS(EggTracker!$F:$F,EggTracker!$J:$J,L$3,EggTracker!$K:$K,1) -> 0
B5: Februry | C5: =SUMIF(EggTracker!$K:$K,2,EggTracker!$B:$B) -> 0 | D5: =SUMIF(EggTracker!$K:$K,2,EggTracker!$C:$C) -> 0 | E5: =SUMIF(EggTracker!$K:$K,2,EggTracker!$D:$D) -> 0 | F5: =SUMIF(EggTracker!$K:$K,2,EggTracker!$E:$E) -> 0 | G5: =SUM(C5:F5) -> 0 | I5: Februry | J5: =SUMIFS(EggTracker!$F:$F,EggTracker!$J:$J,J$3,EggTracker!$K:$K,2) -> 0 | K5: =SUMIFS(EggTracker!$F:$F,EggTracker!$J:$J,K$3,EggTracker!$K:$K,2) -> 0 | L5: =SUMIFS(EggTracker!$F:$F,EggTracker!$J:$J,L$3,EggTracker!$K:$K,2) -> 0
B6: March | C6: =SUMIF(EggTracker!$K:$K,3,EggTracker!$B:$B) -> 0 | D6: =SUMIF(EggTracker!$K:$K,3,EggTracker!$C:$C) -> 0 | E6: =SUMIF(EggTracker!$K:$K,3,EggTracker!$D:$D) -> 0 | F6: =SUMIF(EggTracker!$K:$K,3,EggTracker!$E:$E) -> 0 | G6: =SUM(C6:F6) -> 0 | I6: March | J6: =SUMIFS(EggTracker!$F:$F,EggTracker!$J:$J,J$3,EggTracker!$K:$K,3) -> 0 | K6: =SUMIFS(EggTracker!$F:$F,EggTracker!$J:$J,K$3,EggTracker!$K:$K,3) -> 0 | L6: =SUMIFS(EggTracker!$F:$F,EggTracker!$J:$J,L$3,EggTracker!$K:$K,3) -> 0
B7: April | C7: =SUMIF(EggTracker!$K:$K,4,EggTracker!$B:$B) -> 0 | D7: =SUMIF(EggTracker!$K:$K,4,EggTracker!$C:$C) -> 0 | E7: =SUMIF(EggTracker!$K:$K,4,EggTracker!$D:$D) -> 0 | F7: =SUMIF(EggTracker!$K:$K,4,EggTracker!$E:$E) -> 0 | G7: =SUM(C7:F7) -> 0 | I7: April | J7: =SUMIFS(EggTracker!$F:$F,EggTracker!$J:$J,J$3,EggTracker!$K:$K,4) -> 0 | K7: =SUMIFS(EggTracker!$F:$F,EggTracker!$J:$J,K$3,EggTracker!$K:$K,4) -> 0 | L7: =SUMIFS(EggTracker!$F:$F,EggTracker!$J:$J,L$3,EggTracker!$K:$K,4) -> 0
B8: May | C8: =SUMIF(EggTracker!$K:$K,5,EggTracker!$B:$B) -> 0 | D8: =SUMIF(EggTracker!$K:$K,5,EggTracker!$C:$C) -> 0 | E8: =SUMIF(EggTracker!$K:$K,5,EggTracker!$D:$D) -> 0 | F8: =SUMIF(EggTracker!$K:$K,5,EggTracker!$E:$E) -> 0 | G8: =SUM(C8:F8) -> 0 | I8: May | J8: =SUMIFS(EggTracker!$F:$F,EggTracker!$J:$J,J$3,EggTracker!$K:$K,5) -> 0 | K8: =SUMIFS(EggTracker!$F:$F,EggTracker!$J:$J,K$3,EggTracker!$K:$K,5) -> 0 | L8: =SUMIFS(EggTracker!$F:$F,EggTracker!$J:$J,L$3,EggTracker!$K:$K,5) -> 0
B9: June | C9: =SUMIF(EggTracker!$K:$K,6,EggTracker!$B:$B) -> 0 | D9: =SUMIF(EggTracker!$K:$K,6,EggTracker!$C:$C) -> 0 | E9: =SUMIF(EggTracker!$K:$K,6,EggTracker!$D:$D) -> 0 | F9: =SUMIF(EggTracker!$K:$K,6,EggTracker!$E:$E) -> 0 | G9: =SUM(C9:F9) -> 0 | I9: June | J9: =SUMIFS(EggTracker!$F:$F,EggTracker!$J:$J,J$3,EggTracker!$K:$K,6) -> 0 | K9: =SUMIFS(EggTracker!$F:$F,EggTracker!$J:$J,K$3,EggTracker!$K:$K,6) -> 0 | L9: =SUMIFS(EggTracker!$F:$F,EggTracker!$J:$J,L$3,EggTracker!$K:$K,6) -> 0
B10: July | C10: =SUMIF(EggTracker!$K:$K,7,EggTracker!$B:$B) -> 0 | D10: =SUMIF(EggTracker!$K:$K,7,EggTracker!$C:$C) -> 0 | E10: =SUMIF(EggTracker!$K:$K,7,EggTracker!$D:$D) -> 0 | F10: =SUMIF(EggTracker!$K:$K,7,EggTracker!$E:$E) -> 0 | G10: =SUM(C10:F10) -> 0 | I10: July | J10: =SUMIFS(EggTracker!$F:$F,EggTracker!$J:$J,J$3,EggTracker!$K:$K,7) -> 0 | K10: =SUMIFS(EggTracker!$F:$F,EggTracker!$J:$J,K$3,EggTracker!$K:$K,7) -> 0 | L10: =SUMIFS(EggTracker!$F:$F,EggTracker!$J:$J,L$3,EggTracker!$K:$K,7) -> 0
B11: August | C11: =SUMIF(EggTracker!$K:$K,8,EggTracker!$B:$B) -> 0 | D11: =SUMIF(EggTracker!$K:$K,8,EggTracker!$C:$C) -> 0 | E11: =SUMIF(EggTracker!$K:$K,8,EggTracker!$D:$D) -> 0 | F11: =SUMIF(EggTracker!$K:$K,8,EggTracker!$E:$E) -> 0 | G11: =SUM(C11:F11) -> 0 | I11: August | J11: =SUMIFS(EggTracker!$F:$F,EggTracker!$J:$J,J$3,EggTracker!$K:$K,8) -> 0 | K11: =SUMIFS(EggTracker!$F:$F,EggTracker!$J:$J,K$3,EggTracker!$K:$K,8) -> 0 | L11: =SUMIFS(EggTracker!$F:$F,EggTracker!$J:$J,L$3,EggTracker!$K:$K,8) -> 0
B12: September | C12: =SUMIF(EggTracker!$K:$K,9,EggTracker!$B:$B) -> 0 | D12: =SUMIF(EggTracker!$K:$K,9,EggTracker!$C:$C) -> 0 | E12: =SUMIF(EggTracker!$K:$K,9,EggTracker!$D:$D) -> 0 | F12: =SUMIF(EggTracker!$K:$K,9,EggTracker!$E:$E) -> 0 | G12: =SUM(C12:F12) -> 0 | I12: September | J12: =SUMIFS(EggTracker!$F:$F,EggTracker!$J:$J,J$3,EggTracker!$K:$K,9) -> 0 | K12: =SUMIFS(EggTracker!$F:$F,EggTracker!$J:$J,K$3,EggTracker!$K:$K,9) -> 0 | L12: =SUMIFS(EggTracker!$F:$F,EggTracker!$J:$J,L$3,EggTracker!$K:$K,9) -> 0
B13: October | C13: =SUMIF(EggTracker!$K:$K,10,EggTracker!$B:$B) -> 0 | D13: =SUMIF(EggTracker!$K:$K,10,EggTracker!$C:$C) -> 0 | E13: =SUMIF(EggTracker!$K:$K,10,EggTracker!$D:$D) -> 0 | F13: =SUMIF(EggTracker!$K:$K,10,EggTracker!$E:$E) -> 0 | G13: =SUM(C13:F13) -> 0 | I13: October | J13: =SUMIFS(EggTracker!$F:$F,EggTracker!$J:$J,J$3,EggTracker!$K:$K,10) -> 0 | K13: =SUMIFS(EggTracker!$F:$F,EggTracker!$J:$J,K$3,EggTracker!$K:$K,10) -> 0 | L13: =SUMIFS(EggTracker!$F:$F,EggTracker!$J:$J,L$3,EggTracker!$K:$K,10) -> 0
B14: November | C14: =SUMIF(EggTracker!$K:$K,10,EggTracker!$B:$B) -> 0 | D14: =SUMIF(EggTracker!$K:$K,10,EggTracker!$C:$C) -> 0 | E14: =SUMIF(EggTracker!$K:$K,10,EggTracker!$D:$D) -> 0 | F14: =SUMIF(EggTracker!$K:$K,10,EggTracker!$E:$E) -> 0 | G14: =SUM(C14:F14) -> 0 | I14: November | J14: =SUMIFS(EggTracker!$F:$F,EggTracker!$J:$J,J$3,EggTracker!$K:$K,11) -> 0 | K14: =SUMIFS(EggTracker!$F:$F,EggTracker!$J:$J,K$3,EggTracker!$K:$K,11) -> 0 | L14: =SUMIFS(EggTracker!$F:$F,EggTracker!$J:$J,L$3,EggTracker!$K:$K,11) -> 0
B15: December | C15: =SUMIF(EggTracker!$K:$K,12,EggTracker!$B:$B) -> 0 | D15: =SUMIF(EggTracker!$K:$K,12,EggTracker!$C:$C) -> 0 | E15: =SUMIF(EggTracker!$K:$K,12,EggTracker!$D:$D) -> 0 | F15: =SUMIF(EggTracker!$K:$K,12,EggTracker!$E:$E) -> 0 | G15: =SUM(C15:F15) -> 0 | I15: December | J15: =SUMIFS(EggTracker!$F:$F,EggTracker!$J:$J,J$3,EggTracker!$K:$K,12) -> 0 | K15: =SUMIFS(EggTracker!$F:$F,EggTracker!$J:$J,K$3,EggTracker!$K:$K,12) -> 0 | L15: =SUMIFS(EggTracker!$F:$F,EggTracker!$J:$J,L$3,EggTracker!$K:$K,12) -> 0
B16: Totals | C16: =SUM(C4:C15) -> 0 | D16: =SUM(D4:D15) -> 0 | E16: =SUM(E4:E15) -> 0 | F16: =SUM(F4:F15) -> 0 | G16: =SUM(G4:G15) -> 0 | I16: Totals | J16: =SUM(J4:J15) -> 0 | K16: =SUM(K4:K15) -> 0 | L16: =SUM(L4:L15) -> 0
B19: Average Weeks to First Lay
B20: =AVERAGEIF(FlockCensus!G:G,">0") -> #DIV/0!
B31: Expenses by Year and Category
C32: [Enter Year YYYY] | D32: [Enter Year YYYY] | E32: [Enter Year YYYY] | F32: Total
B33: Accessories | C33: =SUMIFS(Expenses!$E:$E,Expenses!$G:$G,C$32,Expenses!$F:$F,$B33) -> 0 | D33: =SUMIFS(Expenses!$E:$E,Expenses!$G:$G,D$32,Expenses!$F:$F,$B33) -> 0 | E33: =SUMIFS(Expenses!$E:$E,Expenses!$G:$G,E$32,Expenses!$F:$F,$B33) -> 0 | F33: =SUM(C33:E33) -> 0
B34: Bedding | C34: =SUMIFS(Expenses!$E:$E,Expenses!$G:$G,C$32,Expenses!$F:$F,$B34) -> 0 | D34: =SUMIFS(Expenses!$E:$E,Expenses!$G:$G,D$32,Expenses!$F:$F,$B34) -> 0 | E34: =SUMIFS(Expenses!$E:$E,Expenses!$G:$G,E$32,Expenses!$F:$F,$B34) -> 0 | F34: =SUM(C34:E34) -> 0
B35: Construction | C35: =SUMIFS(Expenses!$E:$E,Expenses!$G:$G,C$32,Expenses!$F:$F,$B35) -> 0 | D35: =SUMIFS(Expenses!$E:$E,Expenses!$G:$G,D$32,Expenses!$F:$F,$B35) -> 0 | E35: =SUMIFS(Expenses!$E:$E,Expenses!$G:$G,E$32,Expenses!$F:$F,$B35) -> 0 | F35: =SUM(C35:E35) -> 0
B36: Décor | C36: =SUMIFS(Expenses!$E:$E,Expenses!$G:$G,C$32,Expenses!$F:$F,$B36) -> 0 | D36: =SUMIFS(Expenses!$E:$E,Expenses!$G:$G,D$32,Expenses!$F:$F,$B36) -> 0 | E36: =SUMIFS(Expenses!$E:$E,Expenses!$G:$G,E$32,Expenses!$F:$F,$B36) -> 0 | F36: =SUM(C36:E36) -> 0
B37: Dispensers (feeders, waterers, etc.) | C37: =SUMIFS(Expenses!$E:$E,Expenses!$G:$G,C$32,Expenses!$F:$F,$B37) -> 0 | D37: =SUMIFS(Expenses!$E:$E,Expenses!$G:$G,D$32,Expenses!$F:$F,$B37) -> 0 | E37: =SUMIFS(Expenses!$E:$E,Expenses!$G:$G,E$32,Expenses!$F:$F,$B37) -> 0 | F37: =SUM(C37:E37) -> 0
B38: Egg cartons | C38: =SUMIFS(Expenses!$E:$E,Expenses!$G:$G,C$32,Expenses!$F:$F,$B38) -> 0 | D38: =SUMIFS(Expenses!$E:$E,Expenses!$G:$G,D$32,Expenses!$F:$F,$B38) -> 0 | E38: =SUMIFS(Expenses!$E:$E,Expenses!$G:$G,E$32,Expenses!$F:$F,$B38) -> 0 | F38: =SUM(C38:E38) -> 0
B39: Electricity | C39: =SUMIFS(Expenses!$E:$E,Expenses!$G:$G,C$32,Expenses!$F:$F,$B39) -> 0 | D39: =SUMIFS(Expenses!$E:$E,Expenses!$G:$G,D$32,Expenses!$F:$F,$B39) -> 0 | E39: =SUMIFS(Expenses!$E:$E,Expenses!$G:$G,E$32,Expenses!$F:$F,$B39) -> 0 | F39: =SUM(C39:E39) -> 0
B40: Feed | C40: =SUMIFS(Expenses!$E:$E,Expenses!$G:$G,C$32,Expenses!$F:$F,$B40) -> 0 | D40: =SUMIFS(Expenses!$E:$E,Expenses!$G:$G,D$32,Expenses!$F:$F,$B40) -> 0 | E40: =SUMIFS(Expenses!$E:$E,Expenses!$G:$G,E$32,Expenses!$F:$F,$B40) -> 0 | F40: =SUM(C40:E40) -> 0
B41: Lighting | C41: =SUMIFS(Expenses!$E:$E,Expenses!$G:$G,C$32,Expenses!$F:$F,$B41) -> 0 | D41: =SUMIFS(Expenses!$E:$E,Expenses!$G:$G,D$32,Expenses!$F:$F,$B41) -> 0 | E41: =SUMIFS(Expenses!$E:$E,Expenses!$G:$G,E$32,Expenses!$F:$F,$B41) -> 0 | F41: =SUM(C41:E41) -> 0
B42: Toys | C42: =SUMIFS(Expenses!$E:$E,Expenses!$G:$G,C$32,Expenses!$F:$F,$B42) -> 0 | D42: =SUMIFS(Expenses!$E:$E,Expenses!$G:$G,D$32,Expenses!$F:$F,$B42) -> 0 | E42: =SUMIFS(Expenses!$E:$E,Expenses!$G:$G,E$32,Expenses!$F:$F,$B42) -> 0 | F42: =SUM(C42:E42) -> 0
B43: Treats | C43: =SUMIFS(Expenses!$E:$E,Expenses!$G:$G,C$32,Expenses!$F:$F,$B43) -> 0 | D43: =SUMIFS(Expenses!$E:$E,Expenses!$G:$G,D$32,Expenses!$F:$F,$B43) -> 0 | E43: =SUMIFS(Expenses!$E:$E,Expenses!$G:$G,E$32,Expenses!$F:$F,$B43) -> 0 | F43: =SUM(C43:E43) -> 0
B44: Vitamins | C44: =SUMIFS(Expenses!$E:$E,Expenses!$G:$G,C$32,Expenses!$F:$F,$B44) -> 0 | D44: =SUMIFS(Expenses!$E:$E,Expenses!$G:$G,D$32,Expenses!$F:$F,$B44) -> 0 | E44: =SUMIFS(Expenses!$E:$E,Expenses!$G:$G,E$32,Expenses!$F:$F,$B44) -> 0 | F44: =SUM(C44:E44) -> 0
... B46: Other | C46: =SUMIFS(Expenses!$E:$E,Expenses!$G:$G,C$32,Expenses!$F:$F,$B46) -> 0 | D46: =SUMIFS(Expenses!$E:$E,Expenses!$G:$G,D$32,Expenses!$F:$F,$B46) -> 0 | E46: =SUMIFS(Expenses!$E:$E,Expenses!$G:$G,E$32,Expenses!$F:$F,$B46) -> 0 | F46: =SUM(C46:E46) -> 0
B47: TOTAL | C47: =SUM(C33:C46) -> 0 | D47: =SUM(D33:D46) -> 0 | E47: =SUM(E33:E46) -> 0 | F47: =SUM(C47:E47) -> 0 | G47: 3-Year Total
B48: *Enter the 4-digit year in the blue heading where indicated for table to calculate.
B50: Losses
B51: Loss type | C51: Count
B52: Harvest | C52: =COUNTIF(FlockCensus!I:I,SUMMARY!B52) -> 0
B53: Illness | C53: =COUNTIF(FlockCensus!I:I,SUMMARY!B53) -> 0
B54: Old age | C54: =COUNTIF(FlockCensus!I:I,SUMMARY!B54) -> 0
B55: Predator - Bear | C55: =COUNTIF(FlockCensus!I:I,SUMMARY!B55) -> 0
B56: Predator - Coyote | C56: =COUNTIF(FlockCensus!I:I,SUMMARY!B56) -> 0
B57: Predator - Dog | C57: =COUNTIF(FlockCensus!I:I,SUMMARY!B57) -> 0
B58: Predator - Fox | C58: =COUNTIF(FlockCensus!I:I,SUMMARY!B58) -> 0
B59: Predator - Hawk | C59: =COUNTIF(FlockCensus!I:I,SUMMARY!B59) -> 0
B60: Predator - Other | C60: =COUNTIF(FlockCensus!I:I,SUMMARY!B60) -> 0
B61: Other | C61: =COUNTIF(FlockCensus!I:I,SUMMARY!B61) -> 0
B62: Total | C62: =SUM(C52:C61) -> 0
B67: Hens by Egg Color
B68: Loss type | C68: Count
B69: Light Brown | C69: =SUMPRODUCT((FlockCensus!$J:$J="yes")*(FlockCensus!$E:$E=SUMMARY!$B69)) -> 0
B70: Dark Brown | C70: =SUMPRODUCT((FlockCensus!$J:$J="yes")*(FlockCensus!$E:$E=SUMMARY!$B70)) -> 0
B71: Blue or Green | C71: =SUMPRODUCT((FlockCensus!$J:$J="yes")*(FlockCensus!$E:$E=SUMMARY!$B71)) -> 0
B72: White | C72: =SUMPRODUCT((FlockCensus!$J:$J="yes")*(FlockCensus!$E:$E=SUMMARY!$B72)) -> 0
B73: * Living only
B89: Hatch Stats
B91: Total number of clutches tracked | C91: =COUNTA(Table15[Set Date (MM/DD/YYYY)]) -> 0
B92: Total eggs laid | C92: =HatchTracker!E1 -> 0
B93: Total sucessful hatches | C93: =HatchTracker!F1 -> 0
B94: Overall successful hatch rate | C94: =C93/C92 -> #DIV/0!
B95: Average days to first hatch | C95: =AVERAGEIF(HatchTracker!$H:$H,">0") -> #DIV/0!
B96: Average days to last hatch | C96: =AVERAGEIF(HatchTracker!$I:$I,">0") -> #DIV/0!
B98: Unsuccessful hatches | C98: =C92-C93 -> 0
B99: Successful hatches | C99: =C93 -> 0

Sheet Notes
A2: This tool was created by Leslie McConnell, Journals by North of the Present, LLC to accompany The Essential Chicken Keeper Journal, available from Amazon.com.
A3: © 2021 Leslie McConnell and North of the Present, LLC
A4: All rights reserved.
A5: This tool is for personal use only and may not be distributed or shared without the express written consent of the developer.
A6: For technical problems or questions, please contact leslie@northofthepresent.com.

Sheet Lists
A1: Accessories | B1: Harvest | C1: Light Brown
A2: Bedding | B2: Illness | C2: Dark Brown
A3: Construction | B3: Old age | C3: Blue or Green
A4: Décor | B4: Predator - Bear | C4: White
A5: Dispensers (feeders, waterers, etc.) | B5: Predator - Coyote
A6: Egg cartons | B6: Predator - Dog
A7: Electricity | B7: Predator - Fox
A8: Feed | B8: Predator - Hawk
A9: Lighting | B9: Predator - Other
A10: Toys | B10: Other
A11: Treats
A12: Vitamins
A13: Water
A14: Other
